BEGIN:VCALENDAR
VERSION:2.0
PRODID:-//pretix//Cosmos_Pretix//
BEGIN:VEVENT
UID:pretix-cosmos-berlin-0@pretix.cosmostue.nl
DTSTART:20230517T220000Z
DTEND:20230521T080000Z
DESCRIPTION:Tickets: https://pretix.cosmostue.nl/cosmos/berlin/\nOrganizer:
  COSMOS
DTSTAMP:20260421T145914Z
LOCATION:Berlin
SUMMARY:Berlin Trip
END:VEVENT
END:VCALENDAR
